BEGIN:VCALENDAR
VERSION:2.0
PRODID:-//Gratis-in-Berlin//NONSGML kigkonsult.se iCalcreator 2.14//
METHOD:PUBLISH
X-WR-CALNAME:Gratis-in-Berlin Tip Kalender
X-WR-CALDESC:Erhalte Gratis-in-Berlin Tips in deinem Kalender
BEGIN:VEVENT
UID:20260420T115758UTC-8238EJeX6w@Gratis-in-Berlin
DTSTAMP:20260420T115758Z
DESCRIPTION:Beim Konzertsommer wird der Englische Garten (im Großen Tiergart
 en gelegen und einer der schönsten Parks in Berlin)\, wieder zur internationa
 len Musikbühne. Endlich wieder Musiksommer mit Weltmusik und Picknick im Grünen.&nbs
 p\; :-) Konzerte 16 und 19 Uhr\,&nbsp\; siehe Kommentar\n\nViel Spass wünscht G
 ratis-in-Berlin\n\nLink zum Tip: \nZu den Gratis-in-Berlin Angeboten: http
 ://www.gratis-in-berlin.de\n
DTSTART;VALUE=DATE:20240811
DTEND;VALUE=DATE:20240812
SUMMARY:Start Konzertsommer im Englischen Garten / Tiergarten
END:VEVENT
END:VCALENDAR
