BEGIN:VCALENDAR
VERSION:2.0
PRODID:-//Gratis-in-Berlin//NONSGML kigkonsult.se iCalcreator 2.14//
METHOD:PUBLISH
X-WR-CALNAME:Gratis-in-Berlin Tip Kalender
X-WR-CALDESC:Erhalte Gratis-in-Berlin Tips in deinem Kalender
BEGIN:VEVENT
UID:20260425T163853UTC-7717JdvRVv@Gratis-in-Berlin
DTSTAMP:20260425T163853Z
DESCRIPTION:Nix für Weicheier. Im Strandbad Wannsee wird über Ostern traditionell ang
 ebadet - oder zumindest in Strandkörben sitzend aufs Wasser geschaut. Bei jed
 em Wetter! Auch 2024 ist über Ostern (Karfreitag\, Samstag\, Ostersonnntag und 
 Ostermontag) jeweils 10 bis 18 Uhr Eintritt und Strandkorb-Ausleihe frei.
 \n\nViel Spass wünscht Gratis-in-Berlin\n\nLink zum Tip: \nZu den Gratis-in-Ber
 lin Angeboten: http://www.gratis-in-berlin.de\n
DTSTART;VALUE=DATE:20250418
DTEND;VALUE=DATE:20250422
SUMMARY:Anbaden + Strandkorbsitzen: Saisoneröffnung im Strandbad Wannsee - Ein
 tritt frei (entfällt leider Ostern 2025)
END:VEVENT
END:VCALENDAR
