BEGIN:VCALENDAR
VERSION:2.0
PRODID:-//Gratis-in-Berlin//NONSGML kigkonsult.se iCalcreator 2.14//
METHOD:PUBLISH
X-WR-CALNAME:Gratis-in-Berlin Tip Kalender
X-WR-CALDESC:Erhalte Gratis-in-Berlin Tips in deinem Kalender
BEGIN:VEVENT
UID:20260420T162720UTC-5873P7ZPoV@Gratis-in-Berlin
DTSTAMP:20260420T162720Z
DESCRIPTION:Per Klick auf den folgenden Link erwarten Euch unser Überblick über a
 ktuelle und künftige&nbsp\;Sommerfeste\, Stadfeste\, Kiezfeste und Festivals&nb
 sp\;(Fettschrift = klickbarer Link :-).In unserer Kategorie Outdoor &nbsp\
 ;findet Ihr Angebote wie Grill- und Picknickplätze\, Trimm-Dich-Pfade\, ... 
 Auch Badestellen&nbsp\;zu einem besonderen Freiluft-Vergnügen. In unserer Kateg
 orie Kino werdet Ihr Freiluftkino &amp\; besondere Filme an wirklich&nbsp\
 ; außergewöhnlichen Orten finden. In der Kategorie Tolle Touren finden sich be
 i den Tips mit Datum geführte Radtouren und Spaziergänge\, aber auch Jogging-Stre
 cken mit Sightseeing.&nbsp\;Aussichtspunkte &amp\; Berlin von oben&nbsp\;s
 ind immer eine Inspiration.&nbsp\;In der Kategorie Schatztruhe finden sich
  besondere Märkte und Flohmärkte\,&nbsp\;...\n\nViel Spass wünscht Gratis-in-Berlin
 \n\nLink zum Tip: \nZu den Gratis-in-Berlin Angeboten: http://www.gratis-i
 n-berlin.de\n
DTSTART;VALUE=DATE:20240601
DTEND;VALUE=DATE:20240907
SUMMARY:Sommer in Berlin: Feste\, Veranstaltungen\, Events\, Tips\, Open Ai
 r
END:VEVENT
END:VCALENDAR
