BEGIN:VCALENDAR
VERSION:2.0
PRODID:-//Gratis-in-Berlin//NONSGML kigkonsult.se iCalcreator 2.14//
METHOD:PUBLISH
X-WR-CALNAME:Gratis-in-Berlin Tip Kalender
X-WR-CALDESC:Erhalte Gratis-in-Berlin Tips in deinem Kalender
BEGIN:VEVENT
UID:20260419T201647UTC-1322xXJBxB@Gratis-in-Berlin
DTSTAMP:20260419T201647Z
DESCRIPTION:Programm und Anmeldung zu dieser Veranstaltung finden Sie unter
  dem unten angegebenen Link.Am 13. August 2021 jährt sich der Bau der Berlin
 er Mauer zum 60. Mal. Die Friedrich-Naumann-Stiftung für die Freiheit nimmt die
 s zum Anlass\, um zum einen in die Vergangenheit zu blicken und zu fragen\
 , welche Auswirkungen der 13. August 1961 auf das Leben der Menschen in Os
 t und West hatte. Zum anderen soll aber auch der Bogen in die Gegenwart ge
 schlagen und der aktuelle Stand sowie die Zukunft der deutschen Einigung d
 iskutiert werden.Spielen Kategorien wie ?Ossi? und ?Wessi? heute noch eine
  Rolle? Gibt es heute noch Unterschiede zwischen Ost und West? Und wenn ja
 : warum und in welchen Zusammenhängen? Was können Ost und West (noch) voneinand
 er lernen? Unsere Zeitzeugen aus Wirtschaft\, Medien und Literatur tausche
 n sich darüber aus\, wie sie selbst den Bau und Fall der Mauer erlebt haben bzw
 . wie sie den Einfluss der Ereignisse um Mauerbau und Mauerfall auf ihr Le
 ben bewerten und wie sie sich den weiteren Weg Deutschlands in Einheit wünschen
 .Mit der Bitte um Beachtung: Die Veranstaltung findet unter freiem Himmel 
 und selbstverständlich unter Berücksichtigung der geltenden Corona-Maßnahmen statt
 . Es gilt der Nachweis der üblichen 3Gs (getestet\, genesen\, geimpft) als Vora
 ussetzung\, um das Veranstaltungsgelände zu betreten. Der Testnachweis darf 
 max. 24 h alt und muss von einem gängigen Testzentrum/Behörde sein. Der Nachwei
 s zum Impf-/Genesenstatus muss vor Ort durch offiziellen Beleg erbracht we
 rden.\n\nViel Spass wünscht Gratis-in-Berlin\n\nLink zum Tip: \nZu den Gratis-i
 n-Berlin Angeboten: http://www.gratis-in-berlin.de\n
DTSTART;VALUE=DATE:20210815
DTEND;VALUE=DATE:20210816
SUMMARY:'Niemand hat die Absicht...' Perspektiven zur deutschen Einheit 60 
 Jahre nach dem Mauerbau
END:VEVENT
END:VCALENDAR
