BEGIN:VCALENDAR
VERSION:2.0
PRODID:-//Gratis-in-Berlin//NONSGML kigkonsult.se iCalcreator 2.14//
METHOD:PUBLISH
X-WR-CALNAME:Gratis-in-Berlin Tip Kalender
X-WR-CALDESC:Erhalte Gratis-in-Berlin Tips in deinem Kalender
BEGIN:VEVENT
UID:20260420T161239UTC-1453RiUaWn@Gratis-in-Berlin
DTSTAMP:20260420T161239Z
DESCRIPTION:Herzliche Einladung zu den Naturspaziergängen mit naturbegleitern
 * - Ein Angebot für Jung und Alt in der Spandauer Stadtnatur! Am Dienstag\, den
  28. November treffen wir uns um 14 bis 16 Uhr für eine gemeinsamen Jahresabsch
 luss- Spaziergang am Haselhorster Damm 39. Treffpunkt ist das Nachbarschaf
 tscafe Haselhorster Damm 39. Wir entdecken gemeinsam mit dem Nauturbegleit
 er Detlev Dahlmann die kleinen Wunder der Natur und erleben die entspannen
 de Wirkung grüner Orte. Anschließend wird zu einem gemeinsamen Teetrinken in das
  Nachbarschaftscafe eingeladen. Bitte bequeme und wettefeste Kleidung mitb
 ringen. Anmeldung erwünscht unter wieditz@gwv-haselhorst.de oder der Telefonnum
 mer 015142093233.\n\nViel Spass wünscht Gratis-in-Berlin\n\nLink zum Tip: \nZu 
 den Gratis-in-Berlin Angeboten: http://www.gratis-in-berlin.de\n
DTSTART;VALUE=DATE:20231128
DTEND;VALUE=DATE:20231129
SUMMARY:Naturspaziergänge mit dem Gemeinwesenverein Haselhorst e.V. und den n
 aturbegleitern* ? die kleinen Wunder der Natur entdecken! ? nächster Termin 
 am 28. November um 14 Uhr!
END:VEVENT
END:VCALENDAR
