BEGIN:VCALENDAR
VERSION:2.0
PRODID:-//Gratis-in-Berlin//NONSGML kigkonsult.se iCalcreator 2.14//
METHOD:PUBLISH
X-WR-CALNAME:Gratis-in-Berlin Tip Kalender
X-WR-CALDESC:Erhalte Gratis-in-Berlin Tips in deinem Kalender
BEGIN:VEVENT
UID:20260420T124813UTC-9378KOriEH@Gratis-in-Berlin
DTSTAMP:20260420T124813Z
DESCRIPTION:Entdecken Sie gemeinsam mit der Pilzexpertin Tamara Pilz Hunter
  Herbst- und Winterpilze rund um den Hahneberg! Seien sie gespannt wie vie
 le unterschiedliche Pilze in der kalten Jahreszeit noch zu finden sind und
  lassen Sie sich dabei von deren Vielfalt und der Schönheit faszinieren! Viel
 leicht ist das Glück auf unserer Seite und wir finden ein paar essbare Pilze. B
 ringen Sie gern ein Körbchen mit!Eine Anmeldung ist erforderlich\, da die Tei
 lnehmerzahl begrenzt ist.Wir bitten um wettertaugliche Kleidung und bequem
 e Schuhe.Treffpunkt ist an der Naturschutzstation Hahneberg\, Heerstraße 54
 9 in 13593 Berlin\n\nViel Spass wünscht Gratis-in-Berlin\n\nLink zum Tip: https
 ://www.gratis-in-berlin.de/kalender/item/2063807-winterliche-pilzfuehrung-
 am-hahneberg\nZu den Gratis-in-Berlin Angeboten: http://www.gratis-in-berl
 in.de\n
DTSTART;VALUE=DATE:20231124
DTEND;VALUE=DATE:20231125
SUMMARY:Winterliche Pilzführung am Hahneberg
END:VEVENT
END:VCALENDAR
