BEGIN:VCALENDAR
VERSION:2.0
PRODID:-//Gratis-in-Berlin//NONSGML kigkonsult.se iCalcreator 2.14//
METHOD:PUBLISH
X-WR-CALNAME:Gratis-in-Berlin Tip Kalender
X-WR-CALDESC:Erhalte Gratis-in-Berlin Tips in deinem Kalender
BEGIN:VEVENT
UID:20260420T160707UTC-7284444Zdw@Gratis-in-Berlin
DTSTAMP:20260420T160707Z
DESCRIPTION:Am Montag\, den 20.11. um 11 Uhr laden wir Sie gemeinsam mit Ha
 ns-Jürgen Schatz zum ehrenamtlichen Laubharken auf die denkmalgeschützten Friedhöfe in 
 der Bergmannstraße ein. Gemeinsam lassen wir die Laubbesen schwingen und be
 freien die alten Gräber und Wiesen entlang der Hauptwege vom üppigen Herbstlaub. 
 Wir freuen uns auf tatkräftige Unterstützung! Nach Voranmeldung können Laubbesen ber
 eitgestellt werden. Bitte Arbeitshandschuhe und festes Schuhwerk mitbringe
 n! Wir freuen uns auf Sie!\n\nViel Spass wünscht Gratis-in-Berlin\n\nLink zum T
 ip: \nZu den Gratis-in-Berlin Angeboten: http://www.gratis-in-berlin.de\n
DTSTART;VALUE=DATE:20231120
DTEND;VALUE=DATE:20231121
SUMMARY:Die Recher von Kreuzberg - Laubharken auf den Friedhöfen Bergmannstraße
END:VEVENT
END:VCALENDAR
