BEGIN:VCALENDAR
VERSION:2.0
PRODID:-//Gratis-in-Berlin//NONSGML kigkonsult.se iCalcreator 2.14//
METHOD:PUBLISH
X-WR-CALNAME:Gratis-in-Berlin Tip Kalender
X-WR-CALDESC:Erhalte Gratis-in-Berlin Tips in deinem Kalender
BEGIN:VEVENT
UID:20260420T155239UTC-5292nZPfUG@Gratis-in-Berlin
DTSTAMP:20260420T155239Z
DESCRIPTION:Wandert mit dem Märchenerzähler Steinkauz durch die verwunschene La
 ndschaft des Hahnebergs und lasst euch für eine Stunde in die Welt der Fabelwes
 en entführen. Der Spaziergang endet an einem Märchenpfad\, der liebevoll von Kind
 ern mit selbst gebauten Fabelwesen gestaltet wurde. Das Angebot richtet si
 ch vor allem an Familien\, aber auch an neugierige Erwachsene.Die Teilnehm
 erzahl ist begrenzt. Anmeldung erforderlich unter mail@naturschutzstation-
 hahneberg.de oder unter 030/263 007 87.Die Führung ist kostenfrei\, über eine Spende
  freuen wir uns aber sehr!Wir bitten um wettertaugliche Kleidung und feste
 s\, bequemes Schuhwerk.Wo: Treffpunkt an der Naturschutzstation Hahneberg\
 , Heerstraße 549 in 13593 Berlin.\n\nViel Spass wünscht Gratis-in-Berlin\n\nLink
  zum Tip: https://www.gratis-in-berlin.de/outdoor/item/2067872-maerchenwan
 derung-am-hahneberg\nZu den Gratis-in-Berlin Angeboten: http://www.gratis-
 in-berlin.de\n
DTSTART;VALUE=DATE:20240816
DTEND;VALUE=DATE:20240817
SUMMARY:Märchenwanderung am Hahneberg
END:VEVENT
END:VCALENDAR
