BEGIN:VCALENDAR
VERSION:2.0
PRODID:-//Gratis-in-Berlin//NONSGML kigkonsult.se iCalcreator 2.14//
METHOD:PUBLISH
X-WR-CALNAME:Gratis-in-Berlin Tip Kalender
X-WR-CALDESC:Erhalte Gratis-in-Berlin Tips in deinem Kalender
BEGIN:VEVENT
UID:20260420T120426UTC-26634U33Bp@Gratis-in-Berlin
DTSTAMP:20260420T120426Z
DESCRIPTION:Was macht die Schafe am Hahneberg so unverzichtbar?Ist es ihre 
 tolle Wolle\, oder vielleicht ihre Eigenschaft vorn zu mähen und hinten zu d
 üngen? Oder sehen sie einfach so niedlich aus?Seid dabei und findet heraus\, wa
 s unsere wolligen Nachbarn am Hahnegerg so besonders macht...Schäfer Alex Be
 er hat viele Infos für uns und dazu noch die eine oder andere lustige Geschicht
 e aus dem Leben der Schafe! Die Veranstaltung ist kostenfrei\, über eine Spende
  freuen wir uns aber sehr!Wir bitten um eine Anmeldung unter mail@natursch
 utzstation-hahneberg.de oder 030 / 26 300 787\n\nViel Spass wünscht Gratis-in-B
 erlin\n\nLink zum Tip: https://www.gratis-in-berlin.de/outdoor/item/207296
 6-schaeferfuehrung-am-hahneberg\nZu den Gratis-in-Berlin Angeboten: http:/
 /www.gratis-in-berlin.de\n
DTSTART;VALUE=DATE:20250725
DTEND;VALUE=DATE:20250726
SUMMARY:Schäferführung am Hahneberg
END:VEVENT
END:VCALENDAR
