BEGIN:VCALENDAR
VERSION:2.0
PRODID:-//Gratis-in-Berlin//NONSGML kigkonsult.se iCalcreator 2.14//
METHOD:PUBLISH
X-WR-CALNAME:Gratis-in-Berlin Tip Kalender
X-WR-CALDESC:Erhalte Gratis-in-Berlin Tips in deinem Kalender
BEGIN:VEVENT
UID:20260422T091846UTC-5890z7V7GT@Gratis-in-Berlin
DTSTAMP:20260422T091846Z
DESCRIPTION:Einen Steinwurf von dem Ort entfernt\, an welchem Johann Friedr
 ich Miethe von 1830 bis 1860 die weit über die Grenzen des Landes hinaus bekann
 te erste Dampfschokolade produzierte\, wollen wir der Schokolade\, dem Kak
 ao und dem Handwerk der Verarbeitung einen großen\, würdigen und spannenden Rahm
 en geben. Dazu laden wir alle ein\, die sich mit Herz und Seele dem Thema 
 der Herstellung\, Verarbeitung und dem Verkauf von Produkten rund um die K
 akaobohne widmen.??Präsentiert werden diese Produkte den Besuchenden auf ein
 em der schönsten Plätze im Herzen Potsdams rings um den Marmorobelisken vor Bar
 berini\, Altem Rathaus\, der Nikolaikirche und dem Landtag.\n\nViel Spass 
 wünscht Gratis-in-Berlin\n\nLink zum Tip: https://www.gratis-in-berlin.de/outdo
 or/item/2076294-potsdamer-schokoladenmarkt\nZu den Gratis-in-Berlin Angebo
 ten: http://www.gratis-in-berlin.de\n
DTSTART;VALUE=DATE:20251205
DTEND;VALUE=DATE:20251222
SUMMARY:Potsdamer Schokoladenmarkt
END:VEVENT
END:VCALENDAR
