BEGIN:VCALENDAR
VERSION:2.0
PRODID:-//Gratis-in-Berlin//NONSGML kigkonsult.se iCalcreator 2.14//
METHOD:PUBLISH
X-WR-CALNAME:Gratis-in-Berlin Tip Kalender
X-WR-CALDESC:Erhalte Gratis-in-Berlin Tips in deinem Kalender
BEGIN:VEVENT
UID:20260421T111000UTC-0601UEVzv7@Gratis-in-Berlin
DTSTAMP:20260421T111000Z
DESCRIPTION:Wir freuen uns auf einen gemeinsamen Saison-Auftakt beim jährlich
 en Einsatztag in unserem Garten. Es ist Zeit\, wieder in der Erde zu grabe
 n\, zu säen und zu pflanzen! Zusätzlich gibt es an diesem Tag bei uns eine spa
 nnende Führung &amp\; einen Mitmach-Workshop!Am Samstag\, den 11.04.2026 zwisch
 en 10-16 Uhr ist jede*r herzlich eingeladen mit uns erste Spatenstiche zu 
 machen und unseren Garten aus seinem Winterschlaf zu erwecken. Für Kaffee und K
 uchen ist wie immer gesorgt.Wir freuen uns über jede helfende Hand\, die Lust h
 at\, unseren Garten frühlingstauglich zu machen und dabei noch das ein oder and
 ere lernen möchte!Programm:10:00 bis 16:00 Uhr: Pflanzen- und Saatgut Tauschb
 örse11.30 bis 12:00 Uhr: Schnupper-Workshop ?Minikompost bauen für zuhause?12:00 b
 is 13:00 Uhr: Führung ?Vogel- und Insektenfreundliche Gartengestaltung? mit Vog
 elexperte André Eden12:00 bis 15:00 Uhr: Upcycling Werkstatt ?Vom Tetrapack 
 zum Blumentopf? ? Bringt euch gerne leere Dosen und Tetrapacks zum Basteln
  mit14:00 bis 14:30 Uhr: Schnupper-Workshop ?Minikompost bauen für zuhause?\n\n
 Viel Spass wünscht Gratis-in-Berlin\n\nLink zum Tip: \nZu den Gratis-in-Berlin 
 Angeboten: http://www.gratis-in-berlin.de\n
DTSTART;VALUE=DATE:20260411
DTEND;VALUE=DATE:20260412
SUMMARY:Gartentag an der Naturschutzstation mit Workshops & Saatgut-Tauschb
 örse
END:VEVENT
END:VCALENDAR
