BEGIN:VCALENDAR
VERSION:2.0
PRODID:-//Gratis-in-Berlin//NONSGML kigkonsult.se iCalcreator 2.14//
METHOD:PUBLISH
X-WR-CALNAME:Gratis-in-Berlin Tip Kalender
X-WR-CALDESC:Erhalte Gratis-in-Berlin Tips in deinem Kalender
BEGIN:VEVENT
UID:20260419T215742UTC-1597sgU4fP@Gratis-in-Berlin
DTSTAMP:20260419T215742Z
DESCRIPTION:Wir laden euch ein\, in den nächsten zwei Wochen jeden Morgen (au
 ßer am Wochenende) mit uns einen stillen Spaziergang durch Hasenheide zu ma
 chen. Kurz gesagt: Wir treffen uns um 07:55 vor Little Johns Bikes\, nur e
 ine Minute zu Fuß von der Metrostation Südstern entfernt\, und um 08:00 gehen wi
 r von dort gemeinsam in Hasenheide und machen dort eine einstündige Runde\, die
  wieder am Ausgangspunkt endet. Es ist eine komplett stille Aktivität\, von 
 Anfang bis Ende\, und wir bitten euch\, das zu respektieren. Auch wenn ihr
  mit Freund*innen kommt\, sprecht bitte während des Spaziergangs nicht.\n\nV
 iel Spass wünscht Gratis-in-Berlin\n\nLink zum Tip: https://www.gratis-in-berli
 n.de/kalender/item/2078293-silent-morning-walk-mo-fr\nZu den Gratis-in-Ber
 lin Angeboten: http://www.gratis-in-berlin.de\n
DTSTART;VALUE=DATE:20260414
DTEND;VALUE=DATE:20260429
SUMMARY:Silent morning walk (Mo - Fr)
END:VEVENT
END:VCALENDAR
