BEGIN:VCALENDAR
VERSION:2.0
PRODID:-//Gratis-in-Berlin//NONSGML kigkonsult.se iCalcreator 2.14//
METHOD:PUBLISH
X-WR-CALNAME:Gratis-in-Berlin Tip Kalender
X-WR-CALDESC:Erhalte Gratis-in-Berlin Tips in deinem Kalender
BEGIN:VEVENT
UID:20260422T084600UTC-6019lTwlUz@Gratis-in-Berlin
DTSTAMP:20260422T084600Z
DESCRIPTION:Naturspaziergang Krienicke ParkAuf geht´s in die Spandauer Stadt
 natur!Gemeinsam mit dem Naturbegleiter Detlev Dahlmann entdecken wir die k
 leinen Wunder der Natur und erhalten Naturwissen über Bäume\, Heilkräuter und essba
 re Pflanzen im Krienicke Park.Dienstag\, 28.April 2026Treffpunkt: Romy-Sch
 neider Str. 6\,13599 Berlin\, von 17-18:30 UhrAnmeldung gewünscht unter 0151420
 93233oder per Mail an wieditz@gwv-haselhorst.de\n\nViel Spass wünscht Gratis-in
 -Berlin\n\nLink zum Tip: https://www.gratis-in-berlin.de/outdoor/item/2078
 377-naturspaziergang-krienicke-park-spandau\nZu den Gratis-in-Berlin Angeb
 oten: http://www.gratis-in-berlin.de\n
DTSTART;VALUE=DATE:20260428
DTEND;VALUE=DATE:20260429
SUMMARY:Naturspaziergang Krienicke Park Spandau
END:VEVENT
END:VCALENDAR
