BEGIN:VCALENDAR
VERSION:2.0
PRODID:-//Gratis-in-Berlin//NONSGML kigkonsult.se iCalcreator 2.14//
METHOD:PUBLISH
X-WR-CALNAME:Gratis-in-Berlin Tip Kalender
X-WR-CALDESC:Erhalte Gratis-in-Berlin Tips in deinem Kalender
BEGIN:VEVENT
UID:20260421T133756UTC-8000cTbtAj@Gratis-in-Berlin
DTSTAMP:20260421T133756Z
DESCRIPTION:Die diesjährige Lange Buchnacht in der Oranienstraße findet statt 
 am 9. Mai 2026. Bei freiem Eintritt können alle Literaturbegeisterten die Ora
 nienstraße entlang flanieren und immer wieder Halt machen\, um den untersch
 iedlichen Lesungen zu lauschen. Sämtliche teilnehmende Orte gestalten ihr Pr
 ogramm eigenverantwortlich. Wir sind natürlich auch dabei ? und erstamlig sogar
  an zwei Standorten!Gesamte Programmübersicht der 27. Langen Buchnacht in der O
 ranienstraße unter www.lange-buchnacht.de\n\nViel Spass wünscht Gratis-in-Berlin
 \n\nLink zum Tip: \nZu den Gratis-in-Berlin Angeboten: http://www.gratis-i
 n-berlin.de\n
DTSTART;VALUE=DATE:20260509
DTEND;VALUE=DATE:20260510
SUMMARY: 27. Lange Buchnacht in der Oranienstraße
END:VEVENT
END:VCALENDAR
