BEGIN:VCALENDAR
VERSION:2.0
PRODID:-//Gratis-in-Berlin//NONSGML kigkonsult.se iCalcreator 2.14//
METHOD:PUBLISH
X-WR-CALNAME:Gratis-in-Berlin Tip Kalender
X-WR-CALDESC:Erhalte Gratis-in-Berlin Tips in deinem Kalender
BEGIN:VEVENT
UID:20260420T130220UTC-8677pGXI5o@Gratis-in-Berlin
DTSTAMP:20260420T130220Z
DESCRIPTION:Im Brunnenviertel findet am 6. Juni 2026 (14-18 Uhr) das jährlich
 e Kiezfest statt. Mit Musikprogramm\, Infoständen von Kiezinitiativen\, Mitm
 achaktionen auf der Swinemünder Straße am Vinetaplatz. Das Motto ist 'Radfahren 
 im Kiez'. Organisiert wird das Fest vom Stadtteilverein Brunnenviertel e.V
 .\n\nViel Spass wünscht Gratis-in-Berlin\n\nLink zum Tip: \nZu den Gratis-in-Be
 rlin Angeboten: http://www.gratis-in-berlin.de\n
DTSTART;VALUE=DATE:20260606
DTEND;VALUE=DATE:20260607
SUMMARY:Kiezfest im Brunnenviertel\, Motto 'Radfahren im Kiez'
END:VEVENT
END:VCALENDAR
