BEGIN:VCALENDAR
VERSION:2.0
PRODID:-//Gratis-in-Berlin//NONSGML kigkonsult.se iCalcreator 2.14//
METHOD:PUBLISH
X-WR-CALNAME:Gratis-in-Berlin Tip Kalender
X-WR-CALDESC:Erhalte Gratis-in-Berlin Tips in deinem Kalender
BEGIN:VEVENT
UID:20260420T174122UTC-3516OrOdan@Gratis-in-Berlin
DTSTAMP:20260420T174122Z
DESCRIPTION:Das BaumFilmFestival ist das erste seiner Art und widmet sich a
 usschließlich den Bäumen. Der Veranstaltungsort ist deshalb auch kein Kino\, 
 sondern das Parlament der Bäume gegen Krieg und Gewalt\, gestaltet von Ben W
 agin (1930-2021). Er war Künstler\, Naturaktivist und Baumpate und hat tausende
  Bäume\, meist Ginkgos\, gepflanzt. Im Parlament der Bäume standen 1991 die er
 sten Bäume im ehemaligen ?Todesstreifen?\, schräg gegenüber vom Reichstag\, zwische
 n Stadtbahn und Spree. Zu den Themenschwerpunkten des Festivals gehören Dokum
 entationen über die Veränderung des Lebensraums und Kunstprojekte. Die Filme werd
 en auf Leinwand direkt auf die Berliner Mauer projiziert. Das Festival wir
 d von Filmemacher und Kameramann Uwe Bohrer kuratiert. Schon in den 1980er
  Jahren arbeitete er an Filmen über Baumrodungen mit und war bei den ersten Bau
 mpflanzungen mit der Kamera dabei. Schon 1975 entstanden seine ersten Aufn
 ahmen von Ben Wagin und später einige Filme zusammen mit ihm.\n\nViel Spass 
 wünscht Gratis-in-Berlin\n\nLink zum Tip: https://www.gratis-in-berlin.de/outdo
 or/item/2078499-baumfilmfestival\nZu den Gratis-in-Berlin Angeboten: http:
 //www.gratis-in-berlin.de\n
DTSTART;VALUE=DATE:20260425
DTEND;VALUE=DATE:20260426
SUMMARY:BaumFilmFestival
END:VEVENT
END:VCALENDAR
