BEGIN:VCALENDAR
VERSION:2.0
PRODID:-//Gratis-in-Berlin//NONSGML kigkonsult.se iCalcreator 2.14//
METHOD:PUBLISH
X-WR-CALNAME:Gratis-in-Berlin Tip Kalender
X-WR-CALDESC:Erhalte Gratis-in-Berlin Tips in deinem Kalender
BEGIN:VEVENT
UID:20260421T130442UTC-9010oskltC@Gratis-in-Berlin
DTSTAMP:20260421T130442Z
DESCRIPTION:Zum Europatag lädt die Stiftung Berliner Mauer zusammen mit Koopk
 ultur e.V. zu einem bunten Nachmittag ins Parlament der Bäume ein. Entdeckt 
 den Ort mit einer Führung für Groß und Klein\, verschiedenen künstlerischen Angeboten und 
 einer Vorlesung für Kinder auf Rumänisch.Programm: 13 Uhr - Vorlesung (Rumänische S
 prache)15 Uhr - FamilienführungDie Veranstaltung findet in Kooperation mit Koop
 kultur e.V. statt\n\nViel Spass wünscht Gratis-in-Berlin\n\nLink zum Tip: https
 ://www.gratis-in-berlin.de/component/flexicontent/28-outdoor/2078604-fried
 en-braucht-wurzeln\nZu den Gratis-in-Berlin Angeboten: http://www.gratis-i
 n-berlin.de\n
DTSTART;VALUE=DATE:20260509
DTEND;VALUE=DATE:20260510
SUMMARY:Frieden braucht Wurzeln
END:VEVENT
END:VCALENDAR
