BEGIN:VCALENDAR
VERSION:2.0
PRODID:-//Gratis-in-Berlin//NONSGML kigkonsult.se iCalcreator 2.14//
METHOD:PUBLISH
X-WR-CALNAME:Gratis-in-Berlin Tip Kalender
X-WR-CALDESC:Erhalte Gratis-in-Berlin Tips in deinem Kalender
BEGIN:VEVENT
UID:20260421T151534UTC-2739Kjtzfs@Gratis-in-Berlin
DTSTAMP:20260421T151534Z
DESCRIPTION:Familienworkshop ? Taucht gemeinsam ein in die faszinierende We
 lt des Waldes! Bei dieser interaktiven Veranstaltung lernen Familien spiel
 erisch die Bedeutung des Waldes als Lebensraum und Ökosystem kennen.&nbsp\;
 Die Veranstaltung ist Teil des ebenfalls kostenfreien 2.Wuhlheidefest. Dor
 t gibt es ein buntes Programm mit Sport &amp\; Spiel\, Zirkus-Mitmach-Ange
 boten\, Live-Musik und Wald-Exkursionen.Der Treffpunkt für den Familien-Worksho
 p ist der Eingang des&nbsp\;Geländes der SJC Arena\, An der Wuhlheide 161\, 
 12459 Berlin (in der Wuhlheide).\n\nViel Spass wünscht Gratis-in-Berlin\n\nLink
  zum Tip: \nZu den Gratis-in-Berlin Angeboten: http://www.gratis-in-berlin
 .de\n
DTSTART;VALUE=DATE:20260509
DTEND;VALUE=DATE:20260510
SUMMARY:Familienworkshop: 'Abenteuer Wuhlheide - Entdecke das Ökosystem'
END:VEVENT
END:VCALENDAR
