BEGIN:VCALENDAR
VERSION:2.0
PRODID:-//Gratis-in-Berlin//NONSGML kigkonsult.se iCalcreator 2.14//
METHOD:PUBLISH
X-WR-CALNAME:Gratis-in-Berlin Tip Kalender
X-WR-CALDESC:Erhalte Gratis-in-Berlin Tips in deinem Kalender
BEGIN:VEVENT
UID:20260425T181305UTC-646903txbj@Gratis-in-Berlin
DTSTAMP:20260425T181305Z
DESCRIPTION:16.05. | 12:00?20:00 UhrEintritt: 3 ? | Frei für Kinder bis 12 Jahre
 On May 16th\, the WeDesi collective is collaborating with us to showcase t
 heir take on Indian food\, arts\, music and fashion.For one day\, the SPRE
 EMARKT becomes an open space for celebrating\, sharing\, and discovering t
 raditional and contemporary Indian culture.PROGRAMME\n\nViel Spass wünscht Grat
 is-in-Berlin\n\nLink zum Tip: https://www.gratis-in-berlin.de/component/fl
 exicontent/28-outdoor/2078677-spreemarkt-x-wedesi\nZu den Gratis-in-Berlin
  Angeboten: http://www.gratis-in-berlin.de\n
DTSTART;VALUE=DATE:20260516
DTEND;VALUE=DATE:20260517
SUMMARY:SPREEMARKT X WEDESI
END:VEVENT
END:VCALENDAR
