BEGIN:VCALENDAR
VERSION:2.0
PRODID:-//Gratis-in-Berlin//NONSGML kigkonsult.se iCalcreator 2.14//
METHOD:PUBLISH
X-WR-CALNAME:Gratis-in-Berlin Tip Kalender
X-WR-CALDESC:Erhalte Gratis-in-Berlin Tips in deinem Kalender
BEGIN:VEVENT
UID:20260422T130127UTC-3973bBI1mf@Gratis-in-Berlin
DTSTAMP:20260422T130127Z
DESCRIPTION:Die Prophezeiung Datum: Sonntag 22.06.2025\, 11:30-16:30 UhrSpi
 elleiter: Rainer Joachim Rollenspielsystem: D&amp\;D 3.5 Min. Alter: 16 Ja
 hre Max. Teilnehmerzahl: 6 Vorbereitet Charaktere: Ja Offen für Rollenspielneul
 inge: Ja\, mit starken Nerven Beschreibung:Die Prophezeiung - In einer ura
 lten Überlieferung wird von einer unglaublichen Katastrophe berichtet\, die
  über die Reiche hereinbrechen soll\, wenn sieben bestimmte Ereignisse in einem
  bestimmten Zeitraum eintreten. Einige Gelehrte zeigen sich beunruhigt\, w
 eil sie Berichte bekamen\, daß 5 dieser Ereignisse wohl schon eingetreten s
 ind. Wird eure Gruppe in der Lage sein\, dem Schicksal ein Schnippchen zu 
 schlagen und die letzten beiden Ereignisse zu verhindern? Anmeldung unter:
  stbts@nexus-berlin.de\n\nViel Spass wünscht Gratis-in-Berlin\n\nLink zum Tip: 
 https://www.gratis-in-berlin.de/kalender/item/2073065-rollenspiel-d-d-die-
 prophezeiung\nZu den Gratis-in-Berlin Angeboten: http://www.gratis-in-berl
 in.de\n
DTSTART;VALUE=DATE:20250622
DTEND;VALUE=DATE:20250623
SUMMARY:Rollenspiel D&D in der Bezirkszentralbibliothek Tempelhof
END:VEVENT
END:VCALENDAR
