BEGIN:VCALENDAR
VERSION:2.0
PRODID:-//Gratis-in-Berlin//NONSGML kigkonsult.se iCalcreator 2.14//
METHOD:PUBLISH
X-WR-CALNAME:Gratis-in-Berlin Tip Kalender
X-WR-CALDESC:Erhalte Gratis-in-Berlin Tips in deinem Kalender
BEGIN:VEVENT
UID:20260420T174544UTC-4738NrOUCd@Gratis-in-Berlin
DTSTAMP:20260420T174544Z
DESCRIPTION:Alle 14 Tage treffen sich Jung und Alt\, Profi und Spieleneulin
 g zur gemeinsamen Brett- oder Kartenspielrunde. Für die jüngeren Spielbegeisterten s
 tehen unsere bewährten Maxi-Spiele bereit\, während sich die Spieleexperten im
  Gruppenraum zurückziehen und strategisch spielen können.Aktuelle Termine:Dienstag
 \, 07. April 2026 | 15.00-18.00 Uhr Dienstag\, 21. April 2026 | 15.00-18.0
 0 UhrKostenfrei | Ohne Anmeldung | Für Kinder ab 4 Jahren und Erwachsene\n\nVie
 l Spass wünscht Gratis-in-Berlin\n\nLink zum Tip: \nZu den Gratis-in-Berlin Ang
 eboten: http://www.gratis-in-berlin.de\n
DTSTART;VALUE=DATE:20260421
DTEND;VALUE=DATE:20260422
SUMMARY:Spielenachmittage für Jung & Alt in der Stadtteilbibliothek Lichtenrade
END:VEVENT
END:VCALENDAR
