BEGIN:VCALENDAR
VERSION:2.0
PRODID:-//Gratis-in-Berlin//NONSGML kigkonsult.se iCalcreator 2.14//
METHOD:PUBLISH
X-WR-CALNAME:Gratis-in-Berlin Tip Kalender
X-WR-CALDESC:Erhalte Gratis-in-Berlin Tips in deinem Kalender
BEGIN:VEVENT
UID:20260421T111431UTC-7121DgivmR@Gratis-in-Berlin
DTSTAMP:20260421T111431Z
DESCRIPTION:Beim Pubquiz in der Bibliothek gibt es zwar kein Bier\, aber ge
 nauso viel Spaß und Unterhaltung wie sonst auch. Kommen Sie vorbei und test
 en Sie Ihr nützes und unnützes Wissen im Wettstreit mit anderen.Das Angebot ist kost
 enlos und eine Anmeldung nicht erforderlich.\n\nViel Spass wünscht Gratis-in-Be
 rlin\n\nLink zum Tip: https://www.gratis-in-berlin.de/component/flexiconte
 nt/29-spiele/2077111-pubquiz-in-der-bibliothek\nZu den Gratis-in-Berlin An
 geboten: http://www.gratis-in-berlin.de\n
DTSTART;VALUE=DATE:20260520
DTEND;VALUE=DATE:20260521
SUMMARY:Pubquiz in der Bibliothek
END:VEVENT
END:VCALENDAR
