BEGIN:VCALENDAR
VERSION:2.0
PRODID:-//Gratis-in-Berlin//NONSGML kigkonsult.se iCalcreator 2.14//
METHOD:PUBLISH
X-WR-CALNAME:Gratis-in-Berlin Tip Kalender
X-WR-CALDESC:Erhalte Gratis-in-Berlin Tips in deinem Kalender
BEGIN:VEVENT
UID:20260419T214938UTC-0753MNp6Vj@Gratis-in-Berlin
DTSTAMP:20260419T214938Z
DESCRIPTION:In entspannter Runde wollen wir das Wochenende mit verschiedene
 n Brett-Spielen und Karten-Spielen ausklingen lassen.Neben Klassikern wie 
 Uno\, Skipbo\, Siedler und Co. kommen auch neuere Sachen auf den Tisch.Ein
 e Grund-Auswahl an Spielen (Dixit\, Dorfromantik\, Aufbruch zum Roten Plan
 eten\, Saboteur\, Skull King etc.) ist vorhanden\, aber alle sind eingelad
 en\, auch eigene Spiele mitzubringen.Dazu wollen wir brunchen.Ein Brunch i
 st ein spätes Frühstück.Alle bringen etwas mit zum Brunch.KostenlosBitte meldet e
 uch an!\n\nViel Spass wünscht Gratis-in-Berlin\n\nLink zum Tip: https://www.gra
 tis-in-berlin.de/kalender/item/2077951-spiele-brunch\nZu den Gratis-in-Ber
 lin Angeboten: http://www.gratis-in-berlin.de\n
DTSTART;VALUE=DATE:20260419
DTEND;VALUE=DATE:20260420
SUMMARY:Spiele-Brunch 
END:VEVENT
END:VCALENDAR
