BEGIN:VCALENDAR
VERSION:2.0
PRODID:-//Gratis-in-Berlin//NONSGML kigkonsult.se iCalcreator 2.14//
METHOD:PUBLISH
X-WR-CALNAME:Gratis-in-Berlin Tip Kalender
X-WR-CALDESC:Erhalte Gratis-in-Berlin Tips in deinem Kalender
BEGIN:VEVENT
UID:20260419T215452UTC-0963sGaxUX@Gratis-in-Berlin
DTSTAMP:20260419T215452Z
DESCRIPTION:Wir spielen 6 - 7 Runden Schnellschach mit 15 Minuten Bedenkzei
 t pro Spieler:in. Die Auslosung erfolgt nach Schweizer System\, das heißt s
 o\, dass möglichst gleich starke Spieler:innen gegeneinander spielen.Auch Kin
 der und Jugendliche sind willkommen!Es stehen 30 Plätze zur Verfügung. Reservieru
 ngen sind möglich unter schach.neuenachbarschaft@gmail.com.Die Veranstaltung 
 findet im Rahmen des Projekts OFFEN FÜR KULTUR in der Hansabibliothek statt
  und ist kostenfrei.Dass vollständige Programm von OFFEN FÜR KULTUR findet ih
 r hier: www.offen-fuer-kultur.de.OFFEN FÜR KULTUR wird mit Mitteln der LOTT
 O-Stiftung Berlin finanziert.(Bild: Pixabay)\n\nViel Spass wünscht Gratis-in-Be
 rlin\n\nLink zum Tip: \nZu den Gratis-in-Berlin Angeboten: http://www.grat
 is-in-berlin.de\n
DTSTART;VALUE=DATE:20260419
DTEND;VALUE=DATE:20260420
SUMMARY:Schnellschach mit der SCHACHgruppe in der Hansabibliothek
END:VEVENT
END:VCALENDAR
