BEGIN:VCALENDAR
VERSION:2.0
PRODID:-//Gratis-in-Berlin//NONSGML kigkonsult.se iCalcreator 2.14//
METHOD:PUBLISH
X-WR-CALNAME:Gratis-in-Berlin Tip Kalender
X-WR-CALDESC:Erhalte Gratis-in-Berlin Tips in deinem Kalender
BEGIN:VEVENT
UID:20260420T080619UTC-5675hlnZKO@Gratis-in-Berlin
DTSTAMP:20260420T080619Z
DESCRIPTION:Liebe Rollenspie-Freunde\,\n\nmit und in der Hansa-Bibliothek o
 rganisiert der Nexus e.V. regelmäßige Spieltermine.Am 28.05.2026 von 17 Uhr 
 bis 22 Uhr werden wir in Runde II das Abenteuer 'Das Haus auf dem Hügel' auf Ba
 sis des Rollenspielsystems Dungeons &amp\; Dragons (5e) spielen.Es können bis
  zu fünf Spielende dabei sein. Vorwissen ist nicht erforderlich\, Charaktere un
 d Würfel werden gestellt und alle notwendigen Regeln während des Spiels erklärt.Tea
 ser:Ihr bekommt einen Auftrag von der obersten Septe der Druiden. Jemand s
 cheint die Begleittiere lokaler Druiden und Ranger zu entführen. Alle bisherige
 n Spuren führen zu einem alten Magieranwesen in der Nähe. Das eigentlich verlasse
 ne Haus scheint wohl plötzlich wieder bewohnt zu sein.Weitere Informationen z
 um System: https://de.wikipedia.org/wiki/Dungeons_%26_DragonsSpielleiter i
 st Rainer J.Die Anmeldung erfolgt entweder direkt hier auf Facebook (bitte
  verbindlich eine PN Schreiben oder einen Kommentar hinterlassen) oder per
  Mail unter hansa@nexus-berlin.de.Wir freuen uns auf das gemeinsame Spiel.
 EuerNexus e.V.\n\nViel Spass wünscht Gratis-in-Berlin\n\nLink zum Tip: \nZu den
  Gratis-in-Berlin Angeboten: http://www.gratis-in-berlin.de\n
DTSTART;VALUE=DATE:20260528
DTEND;VALUE=DATE:20260529
SUMMARY:Spieleabend in der Hansabibliothek - Runde II
END:VEVENT
END:VCALENDAR
