BEGIN:VCALENDAR
VERSION:2.0
PRODID:-//Gratis-in-Berlin//NONSGML kigkonsult.se iCalcreator 2.14//
METHOD:PUBLISH
X-WR-CALNAME:Gratis-in-Berlin Tip Kalender
X-WR-CALDESC:Erhalte Gratis-in-Berlin Tips in deinem Kalender
BEGIN:VEVENT
UID:20260425T033855UTC-3192cc4e4l@Gratis-in-Berlin
DTSTAMP:20260425T033855Z
DESCRIPTION:Liebe Rollenspiel-Freunde\,mit und im Kinder- &amp\; Jugendzent
 rum BURG organisiert der Nexus e.V. regelmäßige Spieltermine.Am 03.05.2026 v
 on 14 Uhr bis 20 Uhr werden wir das Abenteuer 'Kutschfahrt in den Tod' auf
  Basis des Systems ?Hexxen 1733' weiterspielen.Es können bis zu drei Spielend
 e dabei sein - die anderen Plätze sind schon belegt. Vorwissen ist nicht erf
 orderlich\, Charaktere und Würfel werden gestellt. Neulinge sind herzlich willk
 ommen.Teaser:Eine zerbrochene Kutsche mitten im Wald. Ein Haufen Söldner\, de
 r eine wertvolle Fracht: eine junge Frau im Käfig. Was wird hier gespielt? W
 er ist verantwortlich für den Unfall? Und was hat es mit der Frau auf sich?Weit
 ere Informationen zum System: https://de.wikipedia.org/wiki/HeXXen_1733Spi
 elleiter ist Kumpelblase.Die Anmeldung erfolgt direkt hier auf Facebook (b
 itte verbindlich eine PN Schreiben oder einen Kommentar hinterlassen) oder
  per Mail unter info@nexus-berlin.de.Wir freuen uns auf das gemeinsame Spi
 el.EuerNexus e.V.\n\nViel Spass wünscht Gratis-in-Berlin\n\nLink zum Tip: \nZu 
 den Gratis-in-Berlin Angeboten: http://www.gratis-in-berlin.de\n
DTSTART;VALUE=DATE:20260503
DTEND;VALUE=DATE:20260504
SUMMARY:Spiel in der Burg - Pen&Paper - Runde I
END:VEVENT
END:VCALENDAR
