BEGIN:VCALENDAR
VERSION:2.0
PRODID:-//Gratis-in-Berlin//NONSGML kigkonsult.se iCalcreator 2.14//
METHOD:PUBLISH
X-WR-CALNAME:Gratis-in-Berlin Tip Kalender
X-WR-CALDESC:Erhalte Gratis-in-Berlin Tips in deinem Kalender
BEGIN:VEVENT
UID:20260420T095356UTC-0405tVmzuI@Gratis-in-Berlin
DTSTAMP:20260420T095356Z
DESCRIPTION:Eine Einführung in die traditionelle Meditationspraxis für Körper und Gei
 st.Ab 16 JahrenKostenfreier Workshop in der Anton-Saefkow-Bibliothek\n\nVi
 el Spass wünscht Gratis-in-Berlin\n\nLink zum Tip: \nZu den Gratis-in-Berlin An
 geboten: http://www.gratis-in-berlin.de\n
DTSTART;VALUE=DATE:20231125
DTEND;VALUE=DATE:20231126
SUMMARY: Workshop I Meditation und Entspannung in Körper und Geist
END:VEVENT
END:VCALENDAR
