BEGIN:VCALENDAR
VERSION:2.0
PRODID:-//Gratis-in-Berlin//NONSGML kigkonsult.se iCalcreator 2.14//
METHOD:PUBLISH
X-WR-CALNAME:Gratis-in-Berlin Tip Kalender
X-WR-CALDESC:Erhalte Gratis-in-Berlin Tips in deinem Kalender
BEGIN:VEVENT
UID:20260422T103050UTC-6228GgVieh@Gratis-in-Berlin
DTSTAMP:20260422T103050Z
DESCRIPTION:Wir haben noch Plätze frei!Bewegung tut gut\, Musik macht glücklich!Zu
  bekannten Melodien werden einfache Bewegungsübungen gezeigt\, die Herz und Kre
 islauf aktivieren\, das Gedächtnis anregen und die Beweglichkeit fördern: im St
 ehen oder im Sitzen\, je nach Ihren Möglichkeiten und Interessen. Der Spaß an 
 Musik und Bewegung\, die Gemeinschaft mit anderen und eine Pause vom Allta
 g stehen im Vordergrund. Die Teilnahme ist kostenlos. In Kooperation mit d
 er Evangelischen Kirchengemeinde FrohnauBarrierefreier Zugang mit Fahrstuh
 l\nWann: 2. und 4. Montag im Monat |&nbsp\;11:15 ? 12:15 UhrWo: Ev. Kirche
 ngemeinde Frohnau | 13465 Berlin(Die genaue Ardesse erhalten Sie nach Anme
 ldung)Informationen und Anmeldung:Kontaktstelle PflegeEngagement Reinicken
 dorfTel.: 030 / 41 74 57 52Email: pflegeengagement@unionhilfswerk.de\n\nVi
 el Spass wünscht Gratis-in-Berlin\n\nLink zum Tip: \nZu den Gratis-in-Berlin An
 geboten: http://www.gratis-in-berlin.de\n
DTSTART;VALUE=DATE:20231120
DTEND;VALUE=DATE:20231121
SUMMARY:Bewegt mit Musik! Bewegungsgruppen für pflegende Angehörige und pflegebedürftige
  Menschen (jeden 2. & 4. Montag)
END:VEVENT
END:VCALENDAR
