BEGIN:VCALENDAR
VERSION:2.0
PRODID:-//Gratis-in-Berlin//NONSGML kigkonsult.se iCalcreator 2.14//
METHOD:PUBLISH
X-WR-CALNAME:Gratis-in-Berlin Tip Kalender
X-WR-CALDESC:Erhalte Gratis-in-Berlin Tips in deinem Kalender
BEGIN:VEVENT
UID:20260422T115152UTC-2315n1aBAu@Gratis-in-Berlin
DTSTAMP:20260422T115152Z
DESCRIPTION:Der Ruderverein Vorwärts Berlin e.V. lädt ein zum Tag der offenen T
 ür am Samstag\, 9. Mai 2026!\n\nVon 14 bis 17 Uhr öffnen wir die Tore zu unserem m
 alerischen Seegrundstück am Pichelssee in Spandau. Alle Interessierten können eine
 n Einblick in die abwechslungsreiche Welt des Freizeitruderns gewinnen:\nB
 esichtigung unserer historischen Holzboote\nProberudern auf dem Land und a
 uf dem Wasser für Neulinge\nRückkehr aufs Wasser für WiedereinsteigerDies ist eine ideale
  Gelegenheit für alle\, die das gemütlich-gesellige Rudern als Freizeitsport neu ode
 r wiederentdecken möchten.\n\nAdresse:Ruderverein Vorwärts Berlin e.V.Am Pichel
 ssee 30d13595 Berlin\n\nAnfahrt:Per Bus M48 bis Haltestelle ?Freybrücke? oder X
 34 bis ?Alt-Pichelsdorf?\, von dort aus zu Fuß PKW: Parken auf dem Seitenst
 reifen der Straße Am Pichelssee.\nWir freuen uns über eine Voranmeldung per E-Ma
 il an mail@rv-vorwaerts-berlin.de!\n\nMit sportlichen GrüßenRuderverein Vorwärts 
 Berlin e.V.\n\nViel Spass wünscht Gratis-in-Berlin\n\nLink zum Tip: \nZu den Gr
 atis-in-Berlin Angeboten: http://www.gratis-in-berlin.de\n
DTSTART;VALUE=DATE:20260509
DTEND;VALUE=DATE:20260510
SUMMARY:Offene Tür: Ruderverein Vorwärts (historische Holzboote)
END:VEVENT
END:VCALENDAR
