BEGIN:VCALENDAR
VERSION:2.0
PRODID:-//Gratis-in-Berlin//NONSGML kigkonsult.se iCalcreator 2.14//
METHOD:PUBLISH
X-WR-CALNAME:Gratis-in-Berlin Tip Kalender
X-WR-CALDESC:Erhalte Gratis-in-Berlin Tips in deinem Kalender
BEGIN:VEVENT
UID:20260425T152727UTC-6733VChUkf@Gratis-in-Berlin
DTSTAMP:20260425T152727Z
DESCRIPTION:Anlasslich des 70 Geburtstags von Jimi Hendrix zeigt die Künstlerin 
 Frauke Bergemann in Kooperation mit WHITECONCEPTS mit einer Ausstellung bi
 sher unveroffentlichter Fotos\, das letzte Konzert von Jimi Hendrix auf de
 r Ostseeinsel Fehmarn.  In der nhow Gallery erhalt der Besucher Einblick i
 n die Lebensrealitat der deutschen Hippie-Bewegung\, als 1970 tausende Mus
 ikbegeisterte auf die Ostseeinsel Fehmarn stromten\, in der Erwartung dort
  ihr deutsches Woodstock zu erleben. Dauerregen und Sturm verhinderten all
 erdings diverse Auftritte der angekündigten\, mittlerweile legendaren Bands. Ji
 mi Hendrix Auftritt bei strahlendem Sonnenschein am letzten Tag des Festiv
 al sollte sein letztes Konzert sein\, bevor er eine Woche spater 27-jahrig
  am 18. September 1970 unter tragischen Umstanden in London starb.  Jimi H
 endrix (James Marshall Hendrix) war eines der großten kreativsten und innov
 ativsten Talente seiner Zeit. Von vielen Musikkritikern wird er als der be
 ste Gitarrist der Welt geschatzt und revolutionierte die Rockmusik vor all
 em klanglich durch die E-Gitarre. Am 27.11.2012 hatte er seinen 70. Geburt
 stag gefeiert.  Ausstellungsdauer: 30.10.2012 ? 10.01.2013\, geoffnet tagl
 ich 24h\, Eintritt frei  Textquelle und mehr Infos Website\n\nViel Spass w
 ünscht Gratis-in-Berlin\n\nLink zum Tip: \nZu den Gratis-in-Berlin Angeboten: h
 ttp://www.gratis-in-berlin.de\n
DTSTART;VALUE=DATE:20121030
DTEND;VALUE=DATE:20130111
SUMMARY:Jimi Hendrix und das Love-and-Peace-Festival: Ausstellung im Musik-
 Hotel 
END:VEVENT
END:VCALENDAR
