BEGIN:VCALENDAR
VERSION:2.0
PRODID:-//Gratis-in-Berlin//NONSGML kigkonsult.se iCalcreator 2.14//
METHOD:PUBLISH
X-WR-CALNAME:Gratis-in-Berlin Tip Kalender
X-WR-CALDESC:Erhalte Gratis-in-Berlin Tips in deinem Kalender
BEGIN:VEVENT
UID:20260424T162515UTC-9712szu73K@Gratis-in-Berlin
DTSTAMP:20260424T162515Z
DESCRIPTION:Montag:  Was für den einen das Ende eines Wochenendes ist\, oder der
  unglimpfliche Anfang einer neuen Woche\, ist für uns der Anlass euch zum Auskl
 ang des Tages ins Wohnzimmer zu bitten.  Hier ist der HipHop zu Hause.  Be
 ats und Rhymes. Eine Achterbahnfahrt der musikalischen Zeitgeschichte.  Al
 les was HipHop zu dem gemacht hat was er heute ist wirst du hier im entspa
 nnten Rahmen von wechselnden DJs hören\, die aber auch nicht abgeneigt sind d
 ich tanzen zu sehen.  Lauter geht immer.  DJs: u.a. Grandmoflash\, Mad Mar
 c\, JadRay  Beginn: 21 UhrSpende: 1DJ?  Barkett\, Czeminskistr. 10\, 10829
  Berlin S1 Julius-Leber-Brücke / U7 Kleistpark  https://www.facebook.com/hiphop
 wohnzimmerberlin\n\nViel Spass wünscht Gratis-in-Berlin\n\nLink zum Tip: https:
 //www.gratis-in-berlin.de/partys/item/2024025-hiphop-wohnzimmer-bar-party
 \nZu den Gratis-in-Berlin Angeboten: http://www.gratis-in-berlin.de\n
DTSTART;VALUE=DATE:20160503
DTEND;VALUE=DATE:20160504
SUMMARY:HipHop Wohnzimmer - Bar & Party [1 DJ-Euro]
END:VEVENT
END:VCALENDAR
