BEGIN:VCALENDAR
VERSION:2.0
PRODID:-//Gratis-in-Berlin//NONSGML kigkonsult.se iCalcreator 2.14//
METHOD:PUBLISH
X-WR-CALNAME:Gratis-in-Berlin Tip Kalender
X-WR-CALDESC:Erhalte Gratis-in-Berlin Tips in deinem Kalender
BEGIN:VEVENT
UID:20260422T165108UTC-5772uopUit@Gratis-in-Berlin
DTSTAMP:20260422T165108Z
DESCRIPTION:Jeden Donnerstag feiern wir unter Palmen bei AFTER WORK me? im 
 Pirates Berlin? direkt an der Spree! Highlights: - Eintritt FREI!- Pay1Get
 2 von 18-21 Uhr auf Bier\, Caipirinha &amp\; Calimero- Live DJ von 18 - 1 
 Uhr- BBQ und Street Food Station- Chillen am Sandstrand unter Palmen- Open
  Air Party auf der Spreeterrasse am Wasser Freut Euch auf einen tollen Fei
 erabend bei Strand-Atmosphäre - mit guter Musik (Live-DJ)\, erfrischenden Co
 cktails und leckerem Street Food! Specials: An unserem Captain´s Beach unte
 r Palmen lässt sich die Abendsonne mit den Füßen im Sand entspannt genießen.Ab 22 
 Uhr beginnt die Party auf unserer Spreeterrasse für all diejenigen\, die nicht 
 bis zum Wochenende warten wollen. Aber natürlich können auch vorher am Strand (Bea
 chfloor) ab 18 Uhr die Hüften geschwungen werden. Der Eintritt ist frei! Für größere 
 Gruppen reservieren wir gern auch einzelne Bereiche unter info@after-work.
 me oder 030 29 35 00 00.  Location: PIRATES BERLIN / Mühlenstr. 78 - 80 in 1024
 3 Berlin (direkt an der Oberbaumbrücke &amp\; Eastside Gallery)\n\nViel Spass w
 ünscht Gratis-in-Berlin\n\nLink zum Tip: https://www.gratis-in-berlin.de/partys
 /item/2031310-after-work-me-open-air\nZu den Gratis-in-Berlin Angeboten: h
 ttp://www.gratis-in-berlin.de\n
DTSTART;VALUE=DATE:20170525
DTEND;VALUE=DATE:20170526
SUMMARY:AFTER WORK me! Open Air
END:VEVENT
END:VCALENDAR
