BEGIN:VCALENDAR
VERSION:2.0
PRODID:-//Gratis-in-Berlin//NONSGML kigkonsult.se iCalcreator 2.14//
METHOD:PUBLISH
X-WR-CALNAME:Gratis-in-Berlin Tip Kalender
X-WR-CALDESC:Erhalte Gratis-in-Berlin Tips in deinem Kalender
BEGIN:VEVENT
UID:20260421T174207UTC-9866hd9KVv@Gratis-in-Berlin
DTSTAMP:20260421T174207Z
DESCRIPTION:Alle bringen etwas mit: Pullover\, Hosen\, Röcke\, Blusen und ande
 re Kleidungsstücke. Hübsche Sachen\, die zum Wegwerfen zu schade und zum Tauschen ge
 nau richtig sind! Getauscht werden können auch Schmuck\, Schals oder Hüte. Pro Per
 son maximal eine Tasche. Bitte nur saubere und gut erhaltene Tauschobjekte
 \, keine Schuhe!\n\nViel Spass wünscht Gratis-in-Berlin\n\nLink zum Tip: \nZu d
 en Gratis-in-Berlin Angeboten: http://www.gratis-in-berlin.de\n
DTSTART;VALUE=DATE:20260611
DTEND;VALUE=DATE:20260612
SUMMARY:Kleidertauschparty in der Bezirkszentralbibliothek Tempelhof
END:VEVENT
END:VCALENDAR
