BEGIN:VCALENDAR
VERSION:2.0
PRODID:-//Gratis-in-Berlin//NONSGML kigkonsult.se iCalcreator 2.14//
METHOD:PUBLISH
X-WR-CALNAME:Gratis-in-Berlin Tip Kalender
X-WR-CALDESC:Erhalte Gratis-in-Berlin Tips in deinem Kalender
BEGIN:VEVENT
UID:20260420T142428UTC-0107LfTI9s@Gratis-in-Berlin
DTSTAMP:20260420T142428Z
DESCRIPTION:Wir sind ein frisch entstandenes Kollektiv\, das sich zusammeng
 efunden hat\, um einmal in der Woche im REGENBOGENCAFÉ Kaffee und Kuchen au
 f Solibasis anzubieten. Alle unsere Einnahmen werden gespendet! Darüber hinaus 
 haben wir Bock auf Workshops\, Diskussionen und andere Möglichkeiten\, ins Ge
 spräch zu kommen\, gemeinsam politische Energie zu sammeln und aktiv zu werd
 en. Lass uns diesen Start gemeinsam feiern : ).Wir öffnen am 28.11. um 16:00 
 mit Kaffee und Kuchen\, später gibts Küfa und wir bechern Glühwein (oder Kinderpunsch)
  und Apfelzimt Brandy (auch alkoholfrei!) und schaukeln\, nicken\, wippen 
 oder springen je nach Lust und Laune zu einer Band\, die für uns türkisch psychedeli
 sche Mukke spielt.Gegen 19 Uhr klingt der Abend langsam mit verschiedenen 
 Dj(ane)s aus. Pack deine Freund*innen ein und komm vorbei ? wir freuen uns
 ! Ab 16:00 : Kaffee + Kuchen Küfa + winterliche Getränkespecials 18:00 : Konzert 
 von ?Alice Libertas? (türkisch-psychedelische Mukke) Ab 19:00 Dj(ane)s mit drum
 bass und anderem groovey shit KEIN ORT FÜR FASCHISMUS\, SEXISMUS\, RASSISMU
 S UND ANDERE DISKRIMINIERUNGSFORMEN! Infos zu Barrieren:\nDas Café ist über eine 
 Stufe zu erreichen\; es gibt eine Rampe.Die Toiletten sind nicht mit Rolli
  befahrbar\nDie Toiletten sind genderneutral.Es gibt keinen Rückzugsraum.Infos 
 zur Anreise:Kottbusser Tor (U3\,U8\,U1\, Bus 140)\, 10 Minuten Fußweg\, rol
 lstuhlgerechter Eingang sowie FahrstühleU Görlitzer Park (U3\,U1\, Bus M29)\, 10 M
 inuten Fußweg\, keine FahrstühleOhlauer Str. (Bus M29)\, 5 Minuten Fußweg? Euer K
 ollektiv ?Café Klatsche?\n\n\nViel Spass wünscht Gratis-in-Berlin\n\nLink zum Tip
 : \nZu den Gratis-in-Berlin Angeboten: http://www.gratis-in-berlin.de\n
DTSTART;VALUE=DATE:20231128
DTEND;VALUE=DATE:20231129
SUMMARY:'Kollektiv Café Klatsche Eröffnungsparty' - Im RegenbogenCafé
END:VEVENT
END:VCALENDAR
