BEGIN:VCALENDAR
VERSION:2.0
PRODID:-//Gratis-in-Berlin//NONSGML kigkonsult.se iCalcreator 2.14//
METHOD:PUBLISH
X-WR-CALNAME:Gratis-in-Berlin Tip Kalender
X-WR-CALDESC:Erhalte Gratis-in-Berlin Tips in deinem Kalender
BEGIN:VEVENT
UID:20260420T145031UTC-1751RitGkU@Gratis-in-Berlin
DTSTAMP:20260420T145031Z
DESCRIPTION:unusual dance music | filmscape\n\nViel Spass wünscht Gratis-in-Berl
 in\n\nLink zum Tip: https://www.gratis-in-berlin.de/kalender/item/2067946-
 dj-sheila-chipperfield\nZu den Gratis-in-Berlin Angeboten: http://www.grat
 is-in-berlin.de\n
DTSTART;VALUE=DATE:20240802
DTEND;VALUE=DATE:20240803
SUMMARY:Dj Sheila Chipperfield
END:VEVENT
END:VCALENDAR
