BEGIN:VCALENDAR
VERSION:2.0
PRODID:-//Gratis-in-Berlin//NONSGML kigkonsult.se iCalcreator 2.14//
METHOD:PUBLISH
X-WR-CALNAME:Gratis-in-Berlin Tip Kalender
X-WR-CALDESC:Erhalte Gratis-in-Berlin Tips in deinem Kalender
BEGIN:VEVENT
UID:20260419T112648UTC-655871mC4g@Gratis-in-Berlin
DTSTAMP:20260419T112648Z
DESCRIPTION:Liebe Bräute\, es ist soweit! Am 27.10.24 eröffnen wir offiziell uns
 er Herzstück in Berlin: Wandelgewand\, dein preloved-Brautmodenladen in Berlin 
 Mitte. Nachhaltig\, einzigartig und voller Charme ? lerne uns kennen und e
 ntdecke unsere Kleider\, die Geschichten erzählen.Ohne Voranmeldung\, gern e
 infach vorbeikommen am:Sonntag\, 27. Oktober von 11-15 Uhr!Wir freuen uns 
 auf dich\n\nViel Spass wünscht Gratis-in-Berlin\n\nLink zum Tip: https://www.gr
 atis-in-berlin.de/kalender/item/2069546-preloved-bridal-store-opening-wand
 elgewand\nZu den Gratis-in-Berlin Angeboten: http://www.gratis-in-berlin.d
 e\n
DTSTART;VALUE=DATE:20241027
DTEND;VALUE=DATE:20241028
SUMMARY:Preloved Bridal Store Opening - Wandelgewand
END:VEVENT
END:VCALENDAR
