BEGIN:VCALENDAR
VERSION:2.0
PRODID:-//Gratis-in-Berlin//NONSGML kigkonsult.se iCalcreator 2.14//
METHOD:PUBLISH
X-WR-CALNAME:Gratis-in-Berlin Tip Kalender
X-WR-CALDESC:Erhalte Gratis-in-Berlin Tips in deinem Kalender
BEGIN:VEVENT
UID:20260420T114824UTC-519242p1IT@Gratis-in-Berlin
DTSTAMP:20260420T114824Z
DESCRIPTION:DJs VOYAGE &amp\; VOYAGE return for another smashing 80ies part
 y at Posh Teckel pub in Neukölln! Dance the night away to your favourite 1980
 s tunes on the dancefloor or have a drink at the bar and socialize in the 
 commodious pub space.Genres: New Wave | Synth-Pop | Rock | Dark Wave | Hip
  Hop | NDWa-ha | Billy Idol | Camouflage | Erasure | Foreigner | Genesis |
  Huey Lewis And The News | INXS | Journey | Killing Joke | Kylie Minogue |
  Level 42 | Madonna | New Model Army | OMD | Pet Shop Boys | Queen | Roxet
 te | Salt-N-Pepa | Trio | Ultravox | Visage | Wham! | Yello | ZZ Top ... a
 nd many more!!\n\nViel Spass wünscht Gratis-in-Berlin\n\nLink zum Tip: https://
 www.gratis-in-berlin.de/kalender/item/2073288-voyage-voyage-80er-party\nZu
  den Gratis-in-Berlin Angeboten: http://www.gratis-in-berlin.de\n
DTSTART;VALUE=DATE:20250725
DTEND;VALUE=DATE:20250726
SUMMARY:Voyage & Voyage 80er Party
END:VEVENT
END:VCALENDAR
