BEGIN:VCALENDAR
VERSION:2.0
PRODID:-//Gratis-in-Berlin//NONSGML kigkonsult.se iCalcreator 2.14//
METHOD:PUBLISH
X-WR-CALNAME:Gratis-in-Berlin Tip Kalender
X-WR-CALDESC:Erhalte Gratis-in-Berlin Tips in deinem Kalender
BEGIN:VEVENT
UID:20260419T120031UTC-6213VMbdi8@Gratis-in-Berlin
DTSTAMP:20260419T120031Z
DESCRIPTION:Fish and Candy DJ set will be spinning their records at Eschsch
 loraque\, keeping you dancing until late at night to the sounds of punk-po
 stpunk-garage-77-mod-new wave-80s synth pop-ndw-power pop-gläm. What better 
 way to end the summer? Those who know the duo know what to expect\, having
  been active for years on the German underground music scene\, but for tho
 se who don't know them\, well\, get ready for some real dynamite!\n\nViel 
 Spass wünscht Gratis-in-Berlin\n\nLink zum Tip: https://www.gratis-in-berlin.de
 /kalender/item/2075012-fish-n-candy-djset\nZu den Gratis-in-Berlin Angebot
 en: http://www.gratis-in-berlin.de\n
DTSTART;VALUE=DATE:20250927
DTEND;VALUE=DATE:20250928
SUMMARY:Fish'n'Candy djset 
END:VEVENT
END:VCALENDAR
