BEGIN:VCALENDAR
VERSION:2.0
PRODID:-//Gratis-in-Berlin//NONSGML kigkonsult.se iCalcreator 2.14//
METHOD:PUBLISH
X-WR-CALNAME:Gratis-in-Berlin Tip Kalender
X-WR-CALDESC:Erhalte Gratis-in-Berlin Tips in deinem Kalender
BEGIN:VEVENT
UID:20260419T132738UTC-2590LFJprS@Gratis-in-Berlin
DTSTAMP:20260419T132738Z
DESCRIPTION:LILITH RAVENSPAWN'S DRAG BINGO NIGHT! Freitag\, 20.Februar 2026
  Start: 20:00 Uhr 9 In der Tabar Bar &amp\; Restaurant wo Glitzer auf Glück tri
 fft!.&nbsp\;Kommt sicher nicht vom Himmel auch wenn sie himmlisch aussieht
 : Die Rabenstochter Lilith lädt euch ein zu einem ganz besonderen Abend voll
 er Zahlen\, Spaß und magischer Stimmung!. Wir sind ein kleiner Laden\, dahe
 r bitten wir um Reservierung. Ohne Reservierung können wir euch leider keinen
  Platz garantieren.@tabar.barTel: 017620235454\n\nViel Spass wünscht Gratis-in-
 Berlin\n\nLink zum Tip: https://www.gratis-in-berlin.de/kalender/item/2077
 352-drag-bingo\nZu den Gratis-in-Berlin Angeboten: http://www.gratis-in-be
 rlin.de\n
DTSTART;VALUE=DATE:20260220
DTEND;VALUE=DATE:20260221
SUMMARY:Drag Bingo 
END:VEVENT
END:VCALENDAR
