BEGIN:VCALENDAR
VERSION:2.0
PRODID:-//Gratis-in-Berlin//NONSGML kigkonsult.se iCalcreator 2.14//
METHOD:PUBLISH
X-WR-CALNAME:Gratis-in-Berlin Tip Kalender
X-WR-CALDESC:Erhalte Gratis-in-Berlin Tips in deinem Kalender
BEGIN:VEVENT
UID:20260419T134431UTC-3704FUruJs@Gratis-in-Berlin
DTSTAMP:20260419T134431Z
DESCRIPTION:Dj: Al ChemRemixes\, Primitive &amp\; BauhouseProducer\, Musici
 an and DJ celebrates electronic music with an eclectic selection of genre 
 and time spanning retrofuture gems. You will get the full package of groov
 es infused with psychedelic elements and occasionally will be trown back i
 nto some strange realm of obscure and surprisining remixes ... Ready yours
 elf for the retrofuture.https://alchem.bandcamp.com/album/weird-fiction\n
 \nViel Spass wünscht Gratis-in-Berlin\n\nLink zum Tip: https://www.gratis-in-be
 rlin.de/kalender/item/2077447-retro-future-party\nZu den Gratis-in-Berlin 
 Angeboten: http://www.gratis-in-berlin.de\n
DTSTART;VALUE=DATE:20260227
DTEND;VALUE=DATE:20260228
SUMMARY:Retro Future Party
END:VEVENT
END:VCALENDAR
