BEGIN:VCALENDAR
VERSION:2.0
PRODID:-//Gratis-in-Berlin//NONSGML kigkonsult.se iCalcreator 2.14//
METHOD:PUBLISH
X-WR-CALNAME:Gratis-in-Berlin Tip Kalender
X-WR-CALDESC:Erhalte Gratis-in-Berlin Tips in deinem Kalender
BEGIN:VEVENT
UID:20260419T141717UTC-5137dGNmTP@Gratis-in-Berlin
DTSTAMP:20260419T141717Z
DESCRIPTION:Hi zusammen! Hier ist das erste Update:Wir sind zurück mit unserem l
 egendären 1. Mai FREE RAVE\n\nViel Spass wünscht Gratis-in-Berlin\n\nLink zum Tip
 : \nZu den Gratis-in-Berlin Angeboten: http://www.gratis-in-berlin.de\n
DTSTART;VALUE=DATE:20260501
DTEND;VALUE=DATE:20260502
SUMMARY:1 Mai Techno Türken Free Open Air & Rave + After Party
END:VEVENT
END:VCALENDAR
