BEGIN:VCALENDAR
VERSION:2.0
PRODID:-//Gratis-in-Berlin//NONSGML kigkonsult.se iCalcreator 2.14//
METHOD:PUBLISH
X-WR-CALNAME:Gratis-in-Berlin Tip Kalender
X-WR-CALDESC:Erhalte Gratis-in-Berlin Tips in deinem Kalender
BEGIN:VEVENT
UID:20260424T100326UTC-9377g3EGMt@Gratis-in-Berlin
DTSTAMP:20260424T100326Z
DESCRIPTION:Der Nikolaikirchplatz und das Nikolaiviertel wird 12 Tage lang 
 zum Treffpunkt für alle Tanzpaare und Tanzinteressierten\, die unter freiem Him
 mel in außergewöhnlich schöner Umgebung dem Paartanz nachgehen wollen. Ebenfalls 
 dabei geht es nicht um eine Disco- oder Techno-Veranstaltung\, sondern es 
 wird nach Welttanzprogramm getanzt (Standard und Latein). Programm Berline
 r Tanzschulen laden zu täglich neuen Tänzen ein (Wiener Walzer\, Cha Cha\, Sal
 sa\, Foxtrott oder Tango) Tanztee ab 15 Uhr und danach die heiß begehrten T
 anzschul Schnupperstunden um 19 Uhr Nikolaiviertel Schwoof bis 22 Uhr und 
 vieles mehr was es zu entdecken gibt. ZielgruppeFamilien mit Kindern\, Tan
 zpaare und Tanzinteressierte / Besucher / Tanzschulen und diejenigen\, wel
 che sich bis dato noch nicht in die Tanzschule getraut haben.WBM Familient
 age An den beiden Sonntagen\, sowie am Kindertag 01.06.2017 lädt die WBM zu 
 einer Kinder- und Familientanzstunde um 15:00 Uhr\, verbunden mit Aktionen
  in den Arkadenflächen für die kleinen Besucher und Ihre Eltern. Traditionelles P
 fingstkonzert auf dem Platz vor der Georg-Statue Der Pfingstsonntag steht 
 im Zeichen der Musik und des Tanzes Das Georgbraeu und das Restaurant Spre
 e Blick möchten die Tradition der Pfingstkonzerte wiederaufleben lassen und a
 m Pfingstsonntag im Wechsel mit der Aktionsfläche auf dem Nikolaikirchplatz 
 Swing-Musik für alle Besucher des Nikolaiviertels spielen.\n\nViel Spass wünscht Gra
 tis-in-Berlin\n\nLink zum Tip: https://www.gratis-in-berlin.de/tanzkurse/i
 tem/2030688-ganz-berlin-schwooft\nZu den Gratis-in-Berlin Angeboten: http:
 //www.gratis-in-berlin.de\n
DTSTART;VALUE=DATE:20170525
DTEND;VALUE=DATE:20170606
SUMMARY:?Ganz Berlin Schwooft' 
END:VEVENT
END:VCALENDAR
