BEGIN:VCALENDAR
VERSION:2.0
PRODID:-//Gratis-in-Berlin//NONSGML kigkonsult.se iCalcreator 2.14//
METHOD:PUBLISH
X-WR-CALNAME:Gratis-in-Berlin Tip Kalender
X-WR-CALDESC:Erhalte Gratis-in-Berlin Tips in deinem Kalender
BEGIN:VEVENT
UID:20260422T132112UTC-0134327WPP@Gratis-in-Berlin
DTSTAMP:20260422T132112Z
DESCRIPTION:Für alle Tanzinteressierten und die\, die gern unter freiem Himmel i
 n Berlins historischer Mitte tanzen wollen\, gibt es ab 25. Mai ganze 12 T
 age lang die Freiluft-Tanzwoche ?Ganz Berlin schwooft? im Nikolaiviertel t
 äglich von jeweils 10 Uhr bis 22 Uhr.Eintritt frei!Getanzt wird nach dem Wel
 ttanzprogramm ? Standard- und Lateintanz. Täglich stellen sich abwechselnd B
 erliner Tanzschulen vor und es gibt Vorführungen von Tanzgruppen inkl. Schnuppe
 rkursen und für die Kleinen Kinderaktionstage an beiden Sonntagen und am 01. Ju
 ni 2017. Weitere Infos und das ganze Programm finden Sie auf www.berlin-sc
 hwooft.de.\n\nViel Spass wünscht Gratis-in-Berlin\n\nLink zum Tip: https://www.
 gratis-in-berlin.de/kalender/item/2031141-ganz-berlin-schwooft\nZu den Gra
 tis-in-Berlin Angeboten: http://www.gratis-in-berlin.de\n
DTSTART;VALUE=DATE:20170525
DTEND;VALUE=DATE:20170606
SUMMARY:Ganz Berlin schwooft 
END:VEVENT
END:VCALENDAR
