BEGIN:VCALENDAR
VERSION:2.0
PRODID:-//Gratis-in-Berlin//NONSGML kigkonsult.se iCalcreator 2.14//
METHOD:PUBLISH
X-WR-CALNAME:Gratis-in-Berlin Tip Kalender
X-WR-CALDESC:Erhalte Gratis-in-Berlin Tips in deinem Kalender
BEGIN:VEVENT
UID:20260419T130151UTC-4955S0kUUm@Gratis-in-Berlin
DTSTAMP:20260419T130151Z
DESCRIPTION:Im Workshop ?Dancing with Myself? geht es darum\, durch Tanz zu
  sich selbst zu finden. Hier kannst du in Bewegung eintauchen\, den Alltag
  hinter dir lassen und den eigenen Körper als Ausdruck deiner inneren Welt en
 tdecken. Es ist ein Raum\, um dich selbst besser kennenzulernen\, deine Ge
 fühle zu spüren und im Tanz deine eigene Stimme zu finden.Wir bitten um Anmeldung un
 ter: weinmeisterhaus@wetek.de------In the 'Dancing with Myself' workshop\,
  it's all about finding yourself through dance. Here\, you can dive into m
 ovement\, leave the day to day behind\, and discover your body as an expre
 ssion of your inner world. It?s a space to get to know yourself better\, f
 eel your emotions\, and find your own voice through dance.Please register 
 at: weinmeisterhaus@wetek.de\n\nViel Spass wünscht Gratis-in-Berlin\n\nLink zum
  Tip: \nZu den Gratis-in-Berlin Angeboten: http://www.gratis-in-berlin.de
 \n
DTSTART;VALUE=DATE:20250901
DTEND;VALUE=DATE:20250904
SUMMARY:Dancing with myself - Tanzworkshop im Weinmeisterhaus
END:VEVENT
END:VCALENDAR
