BEGIN:VCALENDAR
VERSION:2.0
PRODID:-//Gratis-in-Berlin//NONSGML kigkonsult.se iCalcreator 2.14//
METHOD:PUBLISH
X-WR-CALNAME:Gratis-in-Berlin Tip Kalender
X-WR-CALDESC:Erhalte Gratis-in-Berlin Tips in deinem Kalender
BEGIN:VEVENT
UID:20260419T123948UTC-3611MDxRVX@Gratis-in-Berlin
DTSTAMP:20260419T123948Z
DESCRIPTION:Diese kostenlosen Workshops richten sich an alle\, die Erfahrun
 gen mit Ausgrenzung\, Unsichtbarkeit oder Marginalisierung gemacht haben ?
  in welcher Form auch immer. Tanzerfahrung ist nicht nötig (open level)\, Tei
 lnahme ab 14+.Ort: Uferstudios BerlinZeitraum: Workshops 23.09.?18.10.2025
 Wann? Di/Do/Fr 17:00?20:00\, Sa 15:00?18:00Wo? Woche 1 (23.?27.09.): Studi
 o 16Woche 2?3 (30.09.?11.10.): Heizhaus ? Großes StudioWoche 4 (14.?18.10.)
 : Studio 16Was dich erwartet:Kostenlose Softdrinks &amp\; Snacks bei jeder
  Session.Gemeinsames Erkunden von Bewegungen &amp\; choreografischen Tools
  Improvisation mit Alltagsgesten\, Emotionen &amp\; persönlichen GeschichtenO
 ffener Raum für stille Dialoge\, Stimme\, Poesie &amp\; InstrumenteBBQ-Special:
  Wer mindestens 1× pro Woche über alle 4 Wochen teilnimmt (insg. 4 Sessions)\, i
 st zum kostenlosen Abschluss-BBQ am Sa\, 18.10. eingeladen.Anmeldung: QR-C
 ode\, Gangway e.V. Büro oder einfach spontan vorbeikommen &amp\; registrieren.
 \n\nViel Spass wünscht Gratis-in-Berlin\n\nLink zum Tip: \nZu den Gratis-in-Ber
 lin Angeboten: http://www.gratis-in-berlin.de\n
DTSTART;VALUE=DATE:20250927
DTEND;VALUE=DATE:20250928
SUMMARY:Body talks\, Street speaks ? Tanz Workshops (Di - Sa\, wochenweise)
END:VEVENT
END:VCALENDAR
