BEGIN:VCALENDAR
VERSION:2.0
PRODID:-//Gratis-in-Berlin//NONSGML kigkonsult.se iCalcreator 2.14//
METHOD:PUBLISH
X-WR-CALNAME:Gratis-in-Berlin Tip Kalender
X-WR-CALDESC:Erhalte Gratis-in-Berlin Tips in deinem Kalender
BEGIN:VEVENT
UID:20260425T230339UTC-28941U7nVK@Gratis-in-Berlin
DTSTAMP:20260425T230339Z
DESCRIPTION:PUBLIC VIEWING &amp\; PARTY WARM UP+Das ESC-Finale auf der Großb
 ildleinwand+ Am Samstag\, den 23. Mai wird Ann Sophie Deutschland beim 60.
  Eurovision Songcontest im wundervollen Wien vertreten! Da gemeinsames Mit
 fiebern\, Mitsingen und Bewerten mindestens doppelt so viel Spaß macht\, lädt
  der FritzClub im Postbahnhof zum kostenlosen ? ESC-Public-Viewing' auf de
 r Großbildleinwand in seine historischen Hallen.Wem es dabei vor lauter Spa
 nnung nicht auf den Plätzen hält\, kann sich im Sommergarten eine Pause gönnen un
 d wird am clubeigenen BBQ-Grill mit Nervennahrung versorgt. Bei der anschl
 ießenden FritzClub Party genießen alle ESC-Fans freien Eintritt um sich zu R
 ock\, Hip Hop und Electro der FritzClub Residents El Mano &amp\; DJ Zen au
 f zwei Floors drinnen und draußen gemeinsam die Füße Wund zu tanzen.\n\nViel Spa
 ss wünscht Gratis-in-Berlin\n\nLink zum Tip: \nZu den Gratis-in-Berlin Angebote
 n: http://www.gratis-in-berlin.de\n
DTSTART;VALUE=DATE:20150523
DTEND;VALUE=DATE:20150524
SUMMARY:Eurovision Song Contest + Public Viewing & Party Warm Up 
END:VEVENT
END:VCALENDAR
