BEGIN:VCALENDAR
VERSION:2.0
PRODID:-//Gratis-in-Berlin//NONSGML kigkonsult.se iCalcreator 2.14//
METHOD:PUBLISH
X-WR-CALNAME:Gratis-in-Berlin Tip Kalender
X-WR-CALDESC:Erhalte Gratis-in-Berlin Tips in deinem Kalender
BEGIN:VEVENT
UID:20260422T130317UTC-26191DPrXJ@Gratis-in-Berlin
DTSTAMP:20260422T130317Z
DESCRIPTION:Die 100 besten Plakate aus Deutschland\, Osterreich und der Sch
 weiz prasentiert die Kunstbibliothek der Staatlichen Museen. Die Werke von
  Profis\, aber auch Studierenden zeigen die Bandbreite des Plakat-Designs 
 im deutschsprachigen Raum. Eine Jury wahlte die ausgestellten Plakate aus 
 den Einreichungen aus.Vernissage 12.6. wohl ab 19 Uhr\, danach täglich außer 
 Montag jeweils 10-18 Uhr\, Donnerstag bis 20 Uhr.Zentrale Eingangshalle\, 
 Untere Ebene\,&nbsp\; Kulturforum am Potsdamer Platz\n\nViel Spass wünscht Grat
 is-in-Berlin\n\nLink zum Tip: \nZu den Gratis-in-Berlin Angeboten: http://
 www.gratis-in-berlin.de\n
DTSTART;VALUE=DATE:20250612
DTEND;VALUE=DATE:20250707
SUMMARY:100 beste Plakate  Ausstellung in Kulturforum (Di - So)
END:VEVENT
END:VCALENDAR
