BEGIN:VCALENDAR
VERSION:2.0
PRODID:-//Gratis-in-Berlin//NONSGML kigkonsult.se iCalcreator 2.14//
METHOD:PUBLISH
X-WR-CALNAME:Gratis-in-Berlin Tip Kalender
X-WR-CALDESC:Erhalte Gratis-in-Berlin Tips in deinem Kalender
BEGIN:VEVENT
UID:20260424T142244UTC-9505vHeC3D@Gratis-in-Berlin
DTSTAMP:20260424T142244Z
DESCRIPTION:In den verschiedenen Hausern der UdK Berlin geben auch 2011 Stu
 dierende der Bereiche Architektur\, Bildende Kunst\, Musik\, Design\, Visu
 elle Kommunikation\, Schauspiel\, Musiktheater und Tanz mit kreativen Akti
 onen Einblicke in ihre Arbeit.\n\nEr ist mit seinen mehr als 12.000 Besuch
 ern eine feste Große im Berliner Kultursommer: der Rundgang der UdK Berlin.
  Auch in diesem Jahr offnet die großte künstlerische Hochschule Deutschlands wie
 der die Werkstatten\, Ateliers\, Studios und Probenraume. \n\nProgramm als
  PDF über den angegeben Link.\nUnd was genau heute (noch) außergewohnlich und ei
 ntritt-frei in Berlin ist\, über Link 2 oder per Klick oben in der Navigation a
 uf 'Heute gratis in Berlin'.\n\nViel Spass wünscht Gratis-in-Berlin\n\nLink zum
  Tip: https://www.gratis-in-berlin.de/item/2004438\nZu den Gratis-in-Berli
 n Angeboten: http://www.gratis-in-berlin.de\n
DTSTART;VALUE=DATE:20110715
DTEND;VALUE=DATE:20110718
SUMMARY:UdK Rundgang 2011
END:VEVENT
END:VCALENDAR
