BEGIN:VCALENDAR
VERSION:2.0
PRODID:-//Gratis-in-Berlin//NONSGML kigkonsult.se iCalcreator 2.14//
METHOD:PUBLISH
X-WR-CALNAME:Gratis-in-Berlin Tip Kalender
X-WR-CALDESC:Erhalte Gratis-in-Berlin Tips in deinem Kalender
BEGIN:VEVENT
UID:20260424T082854UTC-1251tGkr28@Gratis-in-Berlin
DTSTAMP:20260424T082854Z
DESCRIPTION:Die Berlin Biennale stellt immer wieder neue künstlerische Entwicklu
 ngen vor und lässt die Besucher junge unbekannte Künstler entdecken.&nbsp\;Berlin
  Biennale für zeitgenössische Kunst 2025 mit Programm an vier Ausstellungsorten: d
 em Hamburger Bahnhof ? Nationalgalerie der Gegenwart\, den KW Institute fo
 r Contemporary Art\, den Sophiensælen und in einem ehemaligen Gerichtsgebäude 
 in der Lehrter Straße in Berlin-Moabit.Freier Eintritt 2025 in den Sophiens
 älen\,&nbsp\;Sophienstraße 18\, 10178 Berlin-Mitte (siehe oben verlinkten Sta
 dtplan)\,&nbsp\;Mittwoch?Montag 11?19 Uhr\,&nbsp\;Dienstag geschlossenWer 
 weitere kostenlose Orte 2025 weiß\, gern Kommentar unter diesen Tip schreib
 en (geht direkt ohne Registrierung)Letztes Mal freier Eintritt u.a\, dort:
 Freier Eintritt an den Ausstellungsorten Dekoloniale Erinnerungskultur in 
 der Stadt und Stasi-Zentrale mit Campus für Demokratie.Dekoloniale Erinnerungsk
 ultur in der Stadt Wilhelmstraße 92\, 10117 Berlin Kann jederzeit besichtig
 t werden (Schaufenster). Rollstuhlgerecht.Stasi-Zentrale. Campus für Demokratie
  4 Ruschestraße 103\, Haus 7 und 22\, 10365 Berlin Mi?Mo 11?18 Uhr\, Di ges
 chlossen. Bedingt rollstuhlgerecht.Programm auch mit den kostenpflichtigen
  Hauptausstellungen auf&nbsp\;www.berlinbiennale.de\n\nViel Spass wünscht Grati
 s-in-Berlin\n\nLink zum Tip: https://www.gratis-in-berlin.de/kalender/item
 /2010912-berlin-biennale\nZu den Gratis-in-Berlin Angeboten: http://www.gr
 atis-in-berlin.de\n
DTSTART;VALUE=DATE:20250614
DTEND;VALUE=DATE:20250915
SUMMARY:Berlin Biennale 
END:VEVENT
END:VCALENDAR
