BEGIN:VCALENDAR
VERSION:2.0
PRODID:-//Gratis-in-Berlin//NONSGML kigkonsult.se iCalcreator 2.14//
METHOD:PUBLISH
X-WR-CALNAME:Gratis-in-Berlin Tip Kalender
X-WR-CALDESC:Erhalte Gratis-in-Berlin Tips in deinem Kalender
BEGIN:VEVENT
UID:20260422T225539UTC-8588U3v8VX@Gratis-in-Berlin
DTSTAMP:20260422T225539Z
DESCRIPTION:Fotoausstellung 'Material Evidence. Syria. Ukraine' 29. Mai bis
  01. JuliMontag - Sonntag\, 10:00 - 21:00HO|Berlin Holzmarktstraße 66 (gena
 u gegenüber S-Bahnhof Jannowitzbrücke).Der Eintritt ist frei.Photo exhibition 'Mater
 ial Evidences. Syria. Ukraine' in Berlin'. 2 countries. 2 wars. 2 exhibiti
 ons.\n\nViel Spass wünscht Gratis-in-Berlin\n\nLink zum Tip: \nZu den Gratis-in
 -Berlin Angeboten: http://www.gratis-in-berlin.de\n
DTSTART;VALUE=DATE:20140528
DTEND;VALUE=DATE:20140702
SUMMARY:Fotoausstellung / Photographic Exhibition 'Material Evidence. Syria
 . Ukraine'
END:VEVENT
END:VCALENDAR
